BEGIN:VCALENDAR
VERSION:2.0
PRODID:-//hacksw/handcal//NONSGML v1.0//EN
BEGIN:VEVENT
DTSTAMP:20260914T170000Z
DTSTART:20260914T170000Z
DTEND:20260914T170000Z
SUMMARY:Öffentliche Einrichtungen
END:VEVENT
END:VCALENDAR
