BEGIN:VCALENDAR
VERSION:2.0
PRODID:-//hacksw/handcal//NONSGML v1.0//EN
BEGIN:VEVENT
DTSTAMP:20260908T170000Z
DTSTART:20260908T170000Z
DTEND:20260908T170000Z
SUMMARY:Sozialwesen, Kultur und Sport
END:VEVENT
END:VCALENDAR
