BEGIN:VCALENDAR
VERSION:2.0
PRODID:-//hacksw/handcal//NONSGML v1.0//EN
BEGIN:VEVENT
DTSTAMP:20260818T170000Z
DTSTART:20260818T170000Z
DTEND:20260818T170000Z
SUMMARY:CDU/FDP-Fraktion Klausur
END:VEVENT
END:VCALENDAR
