BEGIN:VCALENDAR
VERSION:2.0
PRODID:-//hacksw/handcal//NONSGML v1.0//EN
BEGIN:VEVENT
DTSTAMP:20260616T163000Z
DTSTART:20260616T163000Z
DTEND:20260616T163000Z
SUMMARY:Gemeindevertretung
END:VEVENT
END:VCALENDAR
