BEGIN:VCALENDAR
VERSION:2.0
PRODID:-//hacksw/handcal//NONSGML v1.0//EN
BEGIN:VEVENT
DTSTAMP:20260603T170000Z
DTSTART:20260603T170000Z
DTEND:20260603T170000Z
SUMMARY:Bau- und Wegeausschuss
END:VEVENT
END:VCALENDAR
